Workbook

Sheet How to use
A1: Course allocation template (merit, first-come-first-served or lottery)
A2: From the Allotix guide: allotix.com/guide/how-to-do-course-allocation-in-excel
A4: 1. Courses sheet: one row per course with its offering department and seat capacity.
A5: 2. Students sheet: one row per student with department, CGPA, submission time and up to 3 ranked preferences.
A6: Preference names must match the Courses sheet exactly (the dropdowns enforce this).
A7: 3. Sort the Students sheet (Data > Sort, columns A:H only) by your priority rule:
A8: Merit: CGPA largest to smallest, then Submitted at oldest to newest as the tie-break.
A9: First-come-first-served: Submitted at, oldest to newest.
A10: Lottery: add a column with =RAND(), copy it and Paste Special > Values (RAND recalculates on every edit), then sort by it.
A11: 4. Column I allocates automatically, top row first. Each student gets their highest preference that
A12: still has a free seat AND is not offered by their own department.
A13: 5. Check the Courses sheet (Filled / Remaining) and the Summary sheet.
... A18: Outgrown the spreadsheet? Allotix collects preferences, applies the rules and publishes an auditable result: allotix.com

Sheet Courses
A1: Course | B1: Offering department | C1: Capacity | D1: Filled | E1: Remaining
A2: Data Science | B2: Computer Science | C2: 2 | D2: =IF(A2="","",COUNTIF(Students!$I$2:$I$2001,A2)) | E2: =IF(A2="","",C2-D2)
A3: Psychology | B3: Humanities | C3: 2 | D3: =IF(A3="","",COUNTIF(Students!$I$2:$I$2001,A3)) | E3: =IF(A3="","",C3-D3)
A4: Photography | B4: Fine Arts | C4: 2 | D4: =IF(A4="","",COUNTIF(Students!$I$2:$I$2001,A4)) | E4: =IF(A4="","",C4-D4)
D5: =IF(A5="","",COUNTIF(Students!$I$2:$I$2001,A5)) | E5: =IF(A5="","",C5-D5)
D6: =IF(A6="","",COUNTIF(Students!$I$2:$I$2001,A6)) | E6: =IF(A6="","",C6-D6)
D7: =IF(A7="","",COUNTIF(Students!$I$2:$I$2001,A7)) | E7: =IF(A7="","",C7-D7)
D8: =IF(A8="","",COUNTIF(Students!$I$2:$I$2001,A8)) | E8: =IF(A8="","",C8-D8)
D9: =IF(A9="","",COUNTIF(Students!$I$2:$I$2001,A9)) | E9: =IF(A9="","",C9-D9)
D10: =IF(A10="","",COUNTIF(Students!$I$2:$I$2001,A10)) | E10: =IF(A10="","",C10-D10)
D11: =IF(A11="","",COUNTIF(Students!$I$2:$I$2001,A11)) | E11: =IF(A11="","",C11-D11)
D12: =IF(A12="","",COUNTIF(Students!$I$2:$I$2001,A12)) | E12: =IF(A12="","",C12-D12)
D13: =IF(A13="","",COUNTIF(Students!$I$2:$I$2001,A13)) | E13: =IF(A13="","",C13-D13)
D14: =IF(A14="","",COUNTIF(Students!$I$2:$I$2001,A14)) | E14: =IF(A14="","",C14-D14)
D15: =IF(A15="","",COUNTIF(Students!$I$2:$I$2001,A15)) | E15: =IF(A15="","",C15-D15)
D16: =IF(A16="","",COUNTIF(Students!$I$2:$I$2001,A16)) | E16: =IF(A16="","",C16-D16)
... D51: =IF(A51="","",COUNTIF(Students!$I$2:$I$2001,A51)) | E51: =IF(A51="","",C51-D51)

Sheet Students
A1: Student ID | B1: Name | C1: Department | D1: CGPA | E1: Submitted at | F1: Preference 1 | G1: Preference 2 | H1: Preference 3 | I1: Allotted course | J1: Choice received
A2: S001 | B2: Asha | C2: Commerce | D2: 9.2 | E2: 2026-07-01 10:04 | F2: Data Science | G2: Psychology | H2: Photography | I2: =IF($A2="","",IF(AND(F2<>"",COUNTIF(I$1:I1,F2)<IFERROR(VLOOKUP(F2,Courses!$A$2:$C$51,3,FALSE),0),IFERROR(VLOOKUP(F2,Courses!$A$2:$C$51,2,FALSE),"")<>$C2),F2,IF(AND(G2<>"",COUNTIF(I$1:I1,G2)<IFERROR(VLOOKUP(G2,Courses!$A$2:$C$51,3,FALSE),0),IFERROR(VLOOKUP(G2,Courses!$A$2:$C$51,2,FALSE),"")<>$C2),G2,IF(AND(H2<>"",COUNTIF(I$1:I1,H2)<IFERROR(VLOOKUP(H2,Courses!$A$2:$C$51,3,FALSE),0),IFERROR(VLOOKUP(H2,Courses!$A$2:$C$51,2,FALSE),"")<>$C2),H2,"Unallocated")))) | J2: =IF(I2="","",IFERROR(MATCH(I2,F2:H2,0),"-"))
A3: S002 | B3: Rohan | C3: Mechanical | D3: 8.9 | E3: 2026-07-01 10:01 | F3: Data Science | G3: Photography | H3: Psychology | I3: =IF($A3="","",IF(AND(F3<>"",COUNTIF(I$1:I2,F3)<IFERROR(VLOOKUP(F3,Courses!$A$2:$C$51,3,FALSE),0),IFERROR(VLOOKUP(F3,Courses!$A$2:$C$51,2,FALSE),"")<>$C3),F3,IF(AND(G3<>"",COUNTIF(I$1:I2,G3)<IFERROR(VLOOKUP(G3,Courses!$A$2:$C$51,3,FALSE),0),IFERROR(VLOOKUP(G3,Courses!$A$2:$C$51,2,FALSE),"")<>$C3),G3,IF(AND(H3<>"",COUNTIF(I$1:I2,H3)<IFERROR(VLOOKUP(H3,Courses!$A$2:$C$51,3,FALSE),0),IFERROR(VLOOKUP(H3,Courses!$A$2:$C$51,2,FALSE),"")<>$C3),H3,"Unallocated")))) | J3: =IF(I3="","",IFERROR(MATCH(I3,F3:H3,0),"-"))
A4: S003 | B4: Meera | C4: Physics | D4: 8.7 | E4: 2026-07-01 10:09 | F4: Data Science | G4: Psychology | H4: Photography | I4: =IF($A4="","",IF(AND(F4<>"",COUNTIF(I$1:I3,F4)<IFERROR(VLOOKUP(F4,Courses!$A$2:$C$51,3,FALSE),0),IFERROR(VLOOKUP(F4,Courses!$A$2:$C$51,2,FALSE),"")<>$C4),F4,IF(AND(G4<>"",COUNTIF(I$1:I3,G4)<IFERROR(VLOOKUP(G4,Courses!$A$2:$C$51,3,FALSE),0),IFERROR(VLOOKUP(G4,Courses!$A$2:$C$51,2,FALSE),"")<>$C4),G4,IF(AND(H4<>"",COUNTIF(I$1:I3,H4)<IFERROR(VLOOKUP(H4,Courses!$A$2:$C$51,3,FALSE),0),IFERROR(VLOOKUP(H4,Courses!$A$2:$C$51,2,FALSE),"")<>$C4),H4,"Unallocated")))) | J4: =IF(I4="","",IFERROR(MATCH(I4,F4:H4,0),"-"))
A5: S004 | B5: Kabir | C5: Commerce | D5: 8.1 | E5: 2026-07-01 10:02 | F5: Psychology | G5: Data Science | H5: Photography | I5: =IF($A5="","",IF(AND(F5<>"",COUNTIF(I$1:I4,F5)<IFERROR(VLOOKUP(F5,Courses!$A$2:$C$51,3,FALSE),0),IFERROR(VLOOKUP(F5,Courses!$A$2:$C$51,2,FALSE),"")<>$C5),F5,IF(AND(G5<>"",COUNTIF(I$1:I4,G5)<IFERROR(VLOOKUP(G5,Courses!$A$2:$C$51,3,FALSE),0),IFERROR(VLOOKUP(G5,Courses!$A$2:$C$51,2,FALSE),"")<>$C5),G5,IF(AND(H5<>"",COUNTIF(I$1:I4,H5)<IFERROR(VLOOKUP(H5,Courses!$A$2:$C$51,3,FALSE),0),IFERROR(VLOOKUP(H5,Courses!$A$2:$C$51,2,FALSE),"")<>$C5),H5,"Unallocated")))) | J5: =IF(I5="","",IFERROR(MATCH(I5,F5:H5,0),"-"))
A6: S005 | B6: Zoya | C6: Chemistry | D6: 7.8 | E6: 2026-07-01 10:07 | F6: Psychology | G6: Photography | H6: Data Science | I6: =IF($A6="","",IF(AND(F6<>"",COUNTIF(I$1:I5,F6)<IFERROR(VLOOKUP(F6,Courses!$A$2:$C$51,3,FALSE),0),IFERROR(VLOOKUP(F6,Courses!$A$2:$C$51,2,FALSE),"")<>$C6),F6,IF(AND(G6<>"",COUNTIF(I$1:I5,G6)<IFERROR(VLOOKUP(G6,Courses!$A$2:$C$51,3,FALSE),0),IFERROR(VLOOKUP(G6,Courses!$A$2:$C$51,2,FALSE),"")<>$C6),G6,IF(AND(H6<>"",COUNTIF(I$1:I5,H6)<IFERROR(VLOOKUP(H6,Courses!$A$2:$C$51,3,FALSE),0),IFERROR(VLOOKUP(H6,Courses!$A$2:$C$51,2,FALSE),"")<>$C6),H6,"Unallocated")))) | J6: =IF(I6="","",IFERROR(MATCH(I6,F6:H6,0),"-"))
A7: S006 | B7: Dev | C7: Mechanical | D7: 7.5 | E7: 2026-07-01 10:00 | F7: Psychology | G7: Data Science | H7: Photography | I7: =IF($A7="","",IF(AND(F7<>"",COUNTIF(I$1:I6,F7)<IFERROR(VLOOKUP(F7,Courses!$A$2:$C$51,3,FALSE),0),IFERROR(VLOOKUP(F7,Courses!$A$2:$C$51,2,FALSE),"")<>$C7),F7,IF(AND(G7<>"",COUNTIF(I$1:I6,G7)<IFERROR(VLOOKUP(G7,Courses!$A$2:$C$51,3,FALSE),0),IFERROR(VLOOKUP(G7,Courses!$A$2:$C$51,2,FALSE),"")<>$C7),G7,IF(AND(H7<>"",COUNTIF(I$1:I6,H7)<IFERROR(VLOOKUP(H7,Courses!$A$2:$C$51,3,FALSE),0),IFERROR(VLOOKUP(H7,Courses!$A$2:$C$51,2,FALSE),"")<>$C7),H7,"Unallocated")))) | J7: =IF(I7="","",IFERROR(MATCH(I7,F7:H7,0),"-"))
I8: =IF($A8="","",IF(AND(F8<>"",COUNTIF(I$1:I7,F8)<IFERROR(VLOOKUP(F8,Courses!$A$2:$C$51,3,FALSE),0),IFERROR(VLOOKUP(F8,Courses!$A$2:$C$51,2,FALSE),"")<>$C8),F8,IF(AND(G8<>"",COUNTIF(I$1:I7,G8)<IFERROR(VLOOKUP(G8,Courses!$A$2:$C$51,3,FALSE),0),IFERROR(VLOOKUP(G8,Courses!$A$2:$C$51,2,FALSE),"")<>$C8),G8,IF(AND(H8<>"",COUNTIF(I$1:I7,H8)<IFERROR(VLOOKUP(H8,Courses!$A$2:$C$51,3,FALSE),0),IFERROR(VLOOKUP(H8,Courses!$A$2:$C$51,2,FALSE),"")<>$C8),H8,"Unallocated")))) | J8: =IF(I8="","",IFERROR(MATCH(I8,F8:H8,0),"-"))
I9: =IF($A9="","",IF(AND(F9<>"",COUNTIF(I$1:I8,F9)<IFERROR(VLOOKUP(F9,Courses!$A$2:$C$51,3,FALSE),0),IFERROR(VLOOKUP(F9,Courses!$A$2:$C$51,2,FALSE),"")<>$C9),F9,IF(AND(G9<>"",COUNTIF(I$1:I8,G9)<IFERROR(VLOOKUP(G9,Courses!$A$2:$C$51,3,FALSE),0),IFERROR(VLOOKUP(G9,Courses!$A$2:$C$51,2,FALSE),"")<>$C9),G9,IF(AND(H9<>"",COUNTIF(I$1:I8,H9)<IFERROR(VLOOKUP(H9,Courses!$A$2:$C$51,3,FALSE),0),IFERROR(VLOOKUP(H9,Courses!$A$2:$C$51,2,FALSE),"")<>$C9),H9,"Unallocated")))) | J9: =IF(I9="","",IFERROR(MATCH(I9,F9:H9,0),"-"))
I10: =IF($A10="","",IF(AND(F10<>"",COUNTIF(I$1:I9,F10)<IFERROR(VLOOKUP(F10,Courses!$A$2:$C$51,3,FALSE),0),IFERROR(VLOOKUP(F10,Courses!$A$2:$C$51,2,FALSE),"")<>$C10),F10,IF(AND(G10<>"",COUNTIF(I$1:I9,G10)<IFERROR(VLOOKUP(G10,Courses!$A$2:$C$51,3,FALSE),0),IFERROR(VLOOKUP(G10,Courses!$A$2:$C$51,2,FALSE),"")<>$C10),G10,IF(AND(H10<>"",COUNTIF(I$1:I9,H10)<IFERROR(VLOOKUP(H10,Courses!$A$2:$C$51,3,FALSE),0),IFERROR(VLOOKUP(H10,Courses!$A$2:$C$51,2,FALSE),"")<>$C10),H10,"Unallocated")))) | J10: =IF(I10="","",IFERROR(MATCH(I10,F10:H10,0),"-"))
I11: =IF($A11="","",IF(AND(F11<>"",COUNTIF(I$1:I10,F11)<IFERROR(VLOOKUP(F11,Courses!$A$2:$C$51,3,FALSE),0),IFERROR(VLOOKUP(F11,Courses!$A$2:$C$51,2,FALSE),"")<>$C11),F11,IF(AND(G11<>"",COUNTIF(I$1:I10,G11)<IFERROR(VLOOKUP(G11,Courses!$A$2:$C$51,3,FALSE),0),IFERROR(VLOOKUP(G11,Courses!$A$2:$C$51,2,FALSE),"")<>$C11),G11,IF(AND(H11<>"",COUNTIF(I$1:I10,H11)<IFERROR(VLOOKUP(H11,Courses!$A$2:$C$51,3,FALSE),0),IFERROR(VLOOKUP(H11,Courses!$A$2:$C$51,2,FALSE),"")<>$C11),H11,"Unallocated")))) | J11: =IF(I11="","",IFERROR(MATCH(I11,F11:H11,0),"-"))
I12: =IF($A12="","",IF(AND(F12<>"",COUNTIF(I$1:I11,F12)<IFERROR(VLOOKUP(F12,Courses!$A$2:$C$51,3,FALSE),0),IFERROR(VLOOKUP(F12,Courses!$A$2:$C$51,2,FALSE),"")<>$C12),F12,IF(AND(G12<>"",COUNTIF(I$1:I11,G12)<IFERROR(VLOOKUP(G12,Courses!$A$2:$C$51,3,FALSE),0),IFERROR(VLOOKUP(G12,Courses!$A$2:$C$51,2,FALSE),"")<>$C12),G12,IF(AND(H12<>"",COUNTIF(I$1:I11,H12)<IFERROR(VLOOKUP(H12,Courses!$A$2:$C$51,3,FALSE),0),IFERROR(VLOOKUP(H12,Courses!$A$2:$C$51,2,FALSE),"")<>$C12),H12,"Unallocated")))) | J12: =IF(I12="","",IFERROR(MATCH(I12,F12:H12,0),"-"))
I13: =IF($A13="","",IF(AND(F13<>"",COUNTIF(I$1:I12,F13)<IFERROR(VLOOKUP(F13,Courses!$A$2:$C$51,3,FALSE),0),IFERROR(VLOOKUP(F13,Courses!$A$2:$C$51,2,FALSE),"")<>$C13),F13,IF(AND(G13<>"",COUNTIF(I$1:I12,G13)<IFERROR(VLOOKUP(G13,Courses!$A$2:$C$51,3,FALSE),0),IFERROR(VLOOKUP(G13,Courses!$A$2:$C$51,2,FALSE),"")<>$C13),G13,IF(AND(H13<>"",COUNTIF(I$1:I12,H13)<IFERROR(VLOOKUP(H13,Courses!$A$2:$C$51,3,FALSE),0),IFERROR(VLOOKUP(H13,Courses!$A$2:$C$51,2,FALSE),"")<>$C13),H13,"Unallocated")))) | J13: =IF(I13="","",IFERROR(MATCH(I13,F13:H13,0),"-"))
I14: =IF($A14="","",IF(AND(F14<>"",COUNTIF(I$1:I13,F14)<IFERROR(VLOOKUP(F14,Courses!$A$2:$C$51,3,FALSE),0),IFERROR(VLOOKUP(F14,Courses!$A$2:$C$51,2,FALSE),"")<>$C14),F14,IF(AND(G14<>"",COUNTIF(I$1:I13,G14)<IFERROR(VLOOKUP(G14,Courses!$A$2:$C$51,3,FALSE),0),IFERROR(VLOOKUP(G14,Courses!$A$2:$C$51,2,FALSE),"")<>$C14),G14,IF(AND(H14<>"",COUNTIF(I$1:I13,H14)<IFERROR(VLOOKUP(H14,Courses!$A$2:$C$51,3,FALSE),0),IFERROR(VLOOKUP(H14,Courses!$A$2:$C$51,2,FALSE),"")<>$C14),H14,"Unallocated")))) | J14: =IF(I14="","",IFERROR(MATCH(I14,F14:H14,0),"-"))
I15: =IF($A15="","",IF(AND(F15<>"",COUNTIF(I$1:I14,F15)<IFERROR(VLOOKUP(F15,Courses!$A$2:$C$51,3,FALSE),0),IFERROR(VLOOKUP(F15,Courses!$A$2:$C$51,2,FALSE),"")<>$C15),F15,IF(AND(G15<>"",COUNTIF(I$1:I14,G15)<IFERROR(VLOOKUP(G15,Courses!$A$2:$C$51,3,FALSE),0),IFERROR(VLOOKUP(G15,Courses!$A$2:$C$51,2,FALSE),"")<>$C15),G15,IF(AND(H15<>"",COUNTIF(I$1:I14,H15)<IFERROR(VLOOKUP(H15,Courses!$A$2:$C$51,3,FALSE),0),IFERROR(VLOOKUP(H15,Courses!$A$2:$C$51,2,FALSE),"")<>$C15),H15,"Unallocated")))) | J15: =IF(I15="","",IFERROR(MATCH(I15,F15:H15,0),"-"))
I16: =IF($A16="","",IF(AND(F16<>"",COUNTIF(I$1:I15,F16)<IFERROR(VLOOKUP(F16,Courses!$A$2:$C$51,3,FALSE),0),IFERROR(VLOOKUP(F16,Courses!$A$2:$C$51,2,FALSE),"")<>$C16),F16,IF(AND(G16<>"",COUNTIF(I$1:I15,G16)<IFERROR(VLOOKUP(G16,Courses!$A$2:$C$51,3,FALSE),0),IFERROR(VLOOKUP(G16,Courses!$A$2:$C$51,2,FALSE),"")<>$C16),G16,IF(AND(H16<>"",COUNTIF(I$1:I15,H16)<IFERROR(VLOOKUP(H16,Courses!$A$2:$C$51,3,FALSE),0),IFERROR(VLOOKUP(H16,Courses!$A$2:$C$51,2,FALSE),"")<>$C16),H16,"Unallocated")))) | J16: =IF(I16="","",IFERROR(MATCH(I16,F16:H16,0),"-"))
I17: =IF($A17="","",IF(AND(F17<>"",COUNTIF(I$1:I16,F17)<IFERROR(VLOOKUP(F17,Courses!$A$2:$C$51,3,FALSE),0),IFERROR(VLOOKUP(F17,Courses!$A$2:$C$51,2,FALSE),"")<>$C17),F17,IF(AND(G17<>"",COUNTIF(I$1:I16,G17)<IFERROR(VLOOKUP(G17,Courses!$A$2:$C$51,3,FALSE),0),IFERROR(VLOOKUP(G17,Courses!$A$2:$C$51,2,FALSE),"")<>$C17),G17,IF(AND(H17<>"",COUNTIF(I$1:I16,H17)<IFERROR(VLOOKUP(H17,Courses!$A$2:$C$51,3,FALSE),0),IFERROR(VLOOKUP(H17,Courses!$A$2:$C$51,2,FALSE),"")<>$C17),H17,"Unallocated")))) | J17: =IF(I17="","",IFERROR(MATCH(I17,F17:H17,0),"-"))
I18: =IF($A18="","",IF(AND(F18<>"",COUNTIF(I$1:I17,F18)<IFERROR(VLOOKUP(F18,Courses!$A$2:$C$51,3,FALSE),0),IFERROR(VLOOKUP(F18,Courses!$A$2:$C$51,2,FALSE),"")<>$C18),F18,IF(AND(G18<>"",COUNTIF(I$1:I17,G18)<IFERROR(VLOOKUP(G18,Courses!$A$2:$C$51,3,FALSE),0),IFERROR(VLOOKUP(G18,Courses!$A$2:$C$51,2,FALSE),"")<>$C18),G18,IF(AND(H18<>"",COUNTIF(I$1:I17,H18)<IFERROR(VLOOKUP(H18,Courses!$A$2:$C$51,3,FALSE),0),IFERROR(VLOOKUP(H18,Courses!$A$2:$C$51,2,FALSE),"")<>$C18),H18,"Unallocated")))) | J18: =IF(I18="","",IFERROR(MATCH(I18,F18:H18,0),"-"))
I19: =IF($A19="","",IF(AND(F19<>"",COUNTIF(I$1:I18,F19)<IFERROR(VLOOKUP(F19,Courses!$A$2:$C$51,3,FALSE),0),IFERROR(VLOOKUP(F19,Courses!$A$2:$C$51,2,FALSE),"")<>$C19),F19,IF(AND(G19<>"",COUNTIF(I$1:I18,G19)<IFERROR(VLOOKUP(G19,Courses!$A$2:$C$51,3,FALSE),0),IFERROR(VLOOKUP(G19,Courses!$A$2:$C$51,2,FALSE),"")<>$C19),G19,IF(AND(H19<>"",COUNTIF(I$1:I18,H19)<IFERROR(VLOOKUP(H19,Courses!$A$2:$C$51,3,FALSE),0),IFERROR(VLOOKUP(H19,Courses!$A$2:$C$51,2,FALSE),"")<>$C19),H19,"Unallocated")))) | J19: =IF(I19="","",IFERROR(MATCH(I19,F19:H19,0),"-"))
... I2001: =IF($A2001="","",IF(AND(F2001<>"",COUNTIF(I$1:I2000,F2001)<IFERROR(VLOOKUP(F2001,Courses!$A$2:$C$51,3,FALSE),0),IFERROR(VLOOKUP(F2001,Courses!$A$2:$C$51,2,FALSE),"")<>$C2001),F2001,IF(AND(G2001<>"",COUNTIF(I$1:I2000,G2001)<IFERROR(VLOOKUP(G2001,Courses!$A$2:$C$51,3,FALSE),0),IFERROR(VLOOKUP(G2001,Courses!$A$2:$C$51,2,FALSE),"")<>$C2001),G2001,IF(AND(H2001<>"",COUNTIF(I$1:I2000,H2001)<IFERROR(VLOOKUP(H2001,Courses!$A$2:$C$51,3,FALSE),0),IFERROR(VLOOKUP(H2001,Courses!$A$2:$C$51,2,FALSE),"")<>$C2001),H2001,"Unallocated")))) | J2001: =IF(I2001="","",IFERROR(MATCH(I2001,F2001:H2001,0),"-"))

Sheet Summary
A1: Metric | B1: Value
A2: Students | B2: =COUNTA(Students!A2:A2001)
A3: Allocated | B3: =Summary!B2-Summary!B4
A4: Unallocated | B4: =COUNTIF(Students!I2:I2001,"Unallocated")
A5: Got 1st choice | B5: =COUNTIF(Students!J2:J2001,1)
A6: Got 1st or 2nd choice | B6: =COUNTIF(Students!J2:J2001,1)+COUNTIF(Students!J2:J2001,2)
A7: % got 1st choice | B7: =IF(B2=0,0,B5/B2)
A8: % got a top-2 choice | B8: =IF(B2=0,0,B6/B2)
A9: Average choice received (lower is better) | B9: =IFERROR(AVERAGE(Students!J2:J2001),"")
A10: Total seats | B10: =SUM(Courses!C2:C51)
